BEGIN:VCALENDAR
PRODID:-//eluceo/ical//2.0/EN
VERSION:2.0
CALSCALE:GREGORIAN
BEGIN:VEVENT
UID:2740483905378ba9be94a8276662db8d
DTSTAMP:20260424T212340Z
SUMMARY:Weizmann Canada Parlour meeting
DESCRIPTION:UJA Federation of Greater Toronto\nJewish Toronto Calendar\nhtt
 ps://jewishtoronto.com/calendar/weizmann-canada-leadership-circle-event\n\
 nFeaturing Dr. Atan Gross and Rabbi Yossi Spiegelman\n\n\nFor RSVP please 
 contact Esther Varkonyi
DTSTART;TZID=America/Toronto:20141027T190000
DTEND;TZID=America/Toronto:20141027T210000
END:VEVENT
END:VCALENDAR
