BEGIN:VCALENDAR
PRODID:-//eluceo/ical//2.0/EN
VERSION:2.0
CALSCALE:GREGORIAN
BEGIN:VEVENT
UID:340ed9d01e9a11a3a0c9d7b787aa1bb4
DTSTAMP:20260421T064120Z
SUMMARY:"We Are Family" for kids in Grades 1 to 5
DESCRIPTION:UJA Federation of Greater Toronto\nJewish Toronto Calendar\nhtt
 ps://jewishtoronto.com/calendar/we-are-family-for-kids-in-grades-1-to-5-16
 43639488\n\nLet's make an unforgettable family card together. Bring a pict
 ure of your family and let your creativity take over! \n\nIn keeping with 
 Public Health safety recommendations\, this program will be offered via Zo
 om. Pre-registration is required to access the Zoom link information. To r
 egister\, email Daniel at dsilverman@beth-tzedec.org.
DTSTART;TZID=America/Toronto:20220206T140000
DTEND;TZID=America/Toronto:20220206T150000
END:VEVENT
END:VCALENDAR
