BEGIN:VCALENDAR
PRODID:-//eluceo/ical//2.0/EN
VERSION:2.0
CALSCALE:GREGORIAN
BEGIN:VEVENT
UID:a48c2f8750190664cd228f3233be842a
DTSTAMP:20260421T101509Z
SUMMARY:WARTIME! Emil Fackenheim's Radio Addresses\, 1943-1948
DESCRIPTION:UJA Federation of Greater Toronto\nJewish Toronto Calendar\nhtt
 ps://jewishtoronto.com/calendar/wartime-emil-fackenheims-radio-addresses-1
 943-1948-1482204901\n\nEmil Fackenheim was one of the most significant Jew
 ish theologians of the 20th century. Fackenheim taught philosophy at the U
 niversity of Toronto\, and spoke regularly on radio. Prof. Michael Morgan 
 discusses the comments and ideas Fackenheim shared with his audience.\n\nP
 rof. Michael Morgan is the Emeritus Chancellor's Professor Philosophy and 
 Jewish Studies at Indiana University (Bloomington).\n\nNo charge. Everyone
  welcome.
DTSTART;TZID=America/Toronto:20170328T193000
DTEND;TZID=America/Toronto:20170328T210000
END:VEVENT
END:VCALENDAR
