BEGIN:VCALENDAR
PRODID:-//eluceo/ical//2.0/EN
VERSION:2.0
CALSCALE:GREGORIAN
BEGIN:VEVENT
UID:8c8a3e4bea2c114bb3d05331fcfec70e
DTSTAMP:20260421T195138Z
SUMMARY:Wallenberg Day Screening 2015: Walking with the Enemy
DESCRIPTION:UJA Federation of Greater Toronto\nJewish Toronto Calendar\nhtt
 ps://jewishtoronto.com/calendar/wallenberg-day-screening-2015-walking-with
 -the-enemy\n\nPresented by Sarah and Chaim Neuberger Holocaust Education C
 entre\n\nFor the Neuberger Holocaust Education Centre’s 2015 commemorati
 on\, we explore the events of the Holocaust in Hungary through the extraor
 dinary story of Pinchas Rosenbaum\, movingly depicted in this recent film.
  Inspired by Rosenbaum's true story\, Walking with the Enemy is an unforg
 ettable film of love\, courage\, and sacrifice. Set in Hungary during the 
 final months of the Second World War\, a young man sets out to find his d.
 ..
DTSTART;TZID=America/Toronto:20150119T190000
DTEND;TZID=America/Toronto:20150119T210000
END:VEVENT
END:VCALENDAR
