BEGIN:VCALENDAR
PRODID:-//eluceo/ical//2.0/EN
VERSION:2.0
CALSCALE:GREGORIAN
BEGIN:VEVENT
UID:31333c865d1d30c6c8ce5517fc737128
DTSTAMP:20260420T162802Z
SUMMARY:WALLENBERG DAY FILM SCREENING: VALIANT HEARTS
DESCRIPTION:UJA Federation of Greater Toronto\nJewish Toronto Calendar\nhtt
 ps://jewishtoronto.com/calendar/wallenberg-day-film-screening-valiant-hear
 ts-1672788392\n\nIn honour of Raoul Wallenberg Day 2023\, join the Holocau
 st Education Centre for a film screening of Valiant Hearts (Coeurs vaillan
 ts)\, a gripping story of survival and rescue from Nazi-occupied France. T
 he film will be introduced with remarks on the significance of Raoul Walle
 nberg and his heroic actions.\n\nIn August 1942\, six Jewish children are 
 hidden by the resistance in the magnificent Loire Valley\, Château de Cha
 mbord\, along with priceless artworks from the Louvre Museum. They are hel
 p...
DTSTART;TZID=America/Toronto:20230117T193000
DTEND;TZID=America/Toronto:20230117T213000
END:VEVENT
END:VCALENDAR
