BEGIN:VCALENDAR
PRODID:-//eluceo/ical//2.0/EN
VERSION:2.0
CALSCALE:GREGORIAN
BEGIN:VEVENT
UID:eb781b33ac14ca0f0d85594e3cbc4d3c
DTSTAMP:20260421T131451Z
SUMMARY:Virtual JDAIM Shira Choir Performance
DESCRIPTION:UJA Federation of Greater Toronto\nJewish Toronto Calendar\nhtt
 ps://jewishtoronto.com/calendar/virtual-jdaim-shira-choir-performance-1674
 759938\n\nTo recognize Jewish Disability Awareness and Inclusion Month (JD
 AIM)\, Bialik Hebrew Day School will be hosting a concert to showcase the 
 incredible talent of Cantor Benlolo and the Shira Choir. The Shira Choir\,
  composed of an exceptional group of singers with special needs\, will be 
 appearing with Aliza Spiro and the Special Voices Choir of the Song Shul. 
  We would like to extend an invitation to other Jewish day schools and syn
 agogues to join us virtually as we livestream the event.  Click on...
DTSTART;TZID=America/Toronto:20230206T110000
DTEND;TZID=America/Toronto:20230206T114500
END:VEVENT
END:VCALENDAR
