BEGIN:VCALENDAR
PRODID:-//eluceo/ical//2.0/EN
VERSION:2.0
CALSCALE:GREGORIAN
BEGIN:VEVENT
UID:047544606ed24798b6b0f4cd675ab820
DTSTAMP:20260422T070811Z
SUMMARY:VIRTUAL CHOCOLATE SEDER
DESCRIPTION:UJA Federation of Greater Toronto\nJewish Toronto Calendar\nhtt
 ps://jewishtoronto.com/calendar/virtual-chocolate-seder-1614972565\n\nJoin
  us for a virtual and interactive CHOCOLATE SEDER for the whole family\, w
 here everything is made of chocolate.  The shopping list will be provided 
 when you register for this program.Copy the link below in your browser to 
 register and receive the Zoom details for this program: https://www.bethsh
 olom.net/event/interactive-virtual-chocolate-seder.html
DTSTART;TZID=America/Toronto:20210321T120000
DTEND;TZID=America/Toronto:20210321T130000
END:VEVENT
END:VCALENDAR
