BEGIN:VCALENDAR
PRODID:-//eluceo/ical//2.0/EN
VERSION:2.0
CALSCALE:GREGORIAN
BEGIN:VEVENT
UID:6c6397709da1944692f78c70b8b3c7ee
DTSTAMP:20260421T232619Z
SUMMARY:Village Shul Young Professionals Sunday Night Shmooze
DESCRIPTION:UJA Federation of Greater Toronto\nJewish Toronto Calendar\nhtt
 ps://jewishtoronto.com/calendar/village-shul-young-professionals-sunday-ni
 ght-shmooze-1\n\nJoin other Jewish young professionals for the Sunday Shmo
 oze\, an event where you can meet other young Jewish professionals\, hear
  a thought-provoking speaker\, and enjoy delicious food!\n\nThis month\, A
 liza Terris\, one of Toronto's top relationship therapists\, is back by po
 pular demand\, and\, will speak on "Finding Your Personality Type."\n\nCOS
 T: $10 in advance\, or $15 at the door. \n\n 
DTSTART;TZID=America/Toronto:20150426T200000
DTEND;TZID=America/Toronto:20150426T213000
END:VEVENT
END:VCALENDAR
