BEGIN:VCALENDAR
PRODID:-//eluceo/ical//2.0/EN
VERSION:2.0
CALSCALE:GREGORIAN
BEGIN:VEVENT
UID:21217aaa345b8794016548274ec209b5
DTSTAMP:20260423T220350Z
SUMMARY:Village Shul Young Professionals Sunday Night Shmooze
DESCRIPTION:UJA Federation of Greater Toronto\nJewish Toronto Calendar\nhtt
 ps://jewishtoronto.com/calendar/village-shul-young-professionals-sunday-ni
 ght-shmooze\n\nJoin other Jewish young professionals for the Sunday Shmooz
 e\, an event where you can meet other young Jewish professionals\, hear a
  thought-provoking speaker\, and enjoy delicious food!\n\nThis month\, Ali
 za Terris\, one of Toronto's top relationship therapists\, will speak on: 
 "Your brain\, your mind\, your relationships - the real love triangle\," a
 nd how understanding science could help you understand yourself\, and help
  you find (or keep) Mr. or Mrs. Right!\n\nCOST: $10 in advance\, or $15 at
  the ...
DTSTART;TZID=America/Toronto:20150308T200000
DTEND;TZID=America/Toronto:20150308T220000
END:VEVENT
END:VCALENDAR
