BEGIN:VCALENDAR
PRODID:-//eluceo/ical//2.0/EN
VERSION:2.0
CALSCALE:GREGORIAN
BEGIN:VEVENT
UID:a8912d74048e3e001276b5691b5c83d9
DTSTAMP:20260424T081034Z
SUMMARY:Village Shul Young Professional Shabbat Dinners returns!
DESCRIPTION:UJA Federation of Greater Toronto\nJewish Toronto Calendar\nhtt
 ps://jewishtoronto.com/calendar/village-shul-young-professional-shabbat-di
 nners-returns\n\nA Jewish young professionals event!\n\nFeaturing a delici
 ous dinner and dessert (with our new\, amazing caterer!)\, an inspiring ta
 lk from Jeremy Diamond\, an Emmy-award winning comedy writer\, and an oppo
 rtunity to meet Jewish young professionals from across Toronto\, this even
 t is NOT to be missed!\n\nKabbalat Shabbat services @ 7pm\, dinner @ 8
 pm\n\nCost:  $28 The deadline to register is Tuesday July 14 at 10pm.\n\n
  \n\n \n\n \n\n \n\n \n\n \n\n \n\n 
DTSTART;TZID=America/Toronto:20150717T190000
DTEND;TZID=America/Toronto:20150717T213000
END:VEVENT
END:VCALENDAR
