BEGIN:VCALENDAR
PRODID:-//eluceo/ical//2.0/EN
VERSION:2.0
CALSCALE:GREGORIAN
BEGIN:VEVENT
UID:304cae486e3ebdc3f81001f3b6f2cf12
DTSTAMP:20260422T085220Z
SUMMARY:Victoria Day - Statutory Holiday
DESCRIPTION:UJA Federation of Greater Toronto\nJewish Toronto Calendar\nhtt
 ps://jewishtoronto.com/calendar/victoria-day-statutory-holiday\n\nVictoria
  Day Holiday 
DTSTART;TZID=America/Toronto:20200518T000000
DTEND;TZID=America/Toronto:20200518T235959
END:VEVENT
END:VCALENDAR
