BEGIN:VCALENDAR
PRODID:-//eluceo/ical//2.0/EN
VERSION:2.0
CALSCALE:GREGORIAN
BEGIN:VEVENT
UID:4d80bd2ccd9514ff1fb75494ca1c09dc
DTSTAMP:20260421T234640Z
SUMMARY:Vicky Shizgal retirement from Camp Moshava Ennismore virtual event
DESCRIPTION:UJA Federation of Greater Toronto\nJewish Toronto Calendar\nhtt
 ps://jewishtoronto.com/calendar/vicky-shizgal-retirement-from-camp-moshava
 -ennismore-virtual-event-1636465451\n\nMore details to follow!
DTSTART;TZID=America/Toronto:20220116T130000
DTEND;TZID=America/Toronto:20220116T150000
END:VEVENT
END:VCALENDAR
