BEGIN:VCALENDAR
PRODID:-//eluceo/ical//2.0/EN
VERSION:2.0
CALSCALE:GREGORIAN
BEGIN:VEVENT
UID:d03acdd2051a087d9d26cc70869d06ef
DTSTAMP:20260421T111114Z
SUMMARY:Vanguard Kickoff
DESCRIPTION:UJA Federation of Greater Toronto\nJewish Toronto Calendar\nhtt
 ps://jewishtoronto.com/calendar/vanguard-kickoff\n\nVanguard Kickoff
DTSTART;TZID=America/Toronto:20140528T180000
DTEND;TZID=America/Toronto:20140528T210000
END:VEVENT
END:VCALENDAR
