BEGIN:VCALENDAR
PRODID:-//eluceo/ical//2.0/EN
VERSION:2.0
CALSCALE:GREGORIAN
BEGIN:VEVENT
UID:164af739730e4bfd3d18354a09f323c9
DTSTAMP:20260422T110726Z
SUMMARY:URJ Camp George Open House
DESCRIPTION:UJA Federation of Greater Toronto\nJewish Toronto Calendar\nhtt
 ps://jewishtoronto.com/calendar/urj-camp-george-open-house-1477594214\n\nU
 RJ Camp George is inviting families to join us at Yogurty's (Bathurst and 
 Sheppard) to hear more about our summer camp programs. Yogurt will be prov
 ided! Meet our Directors\, learn about camp\, and meet other camp families
  who call Camp George home.
DTSTART;TZID=America/Toronto:20161127T000000
DTEND;TZID=America/Toronto:20161127T000000
END:VEVENT
END:VCALENDAR
