BEGIN:VCALENDAR
PRODID:-//eluceo/ical//2.0/EN
VERSION:2.0
CALSCALE:GREGORIAN
BEGIN:VEVENT
UID:9081d333e47cbcb6d96ad11ed98fb2bc
DTSTAMP:20260425T202815Z
SUMMARY:Unselfish Spirituality with Alan Morinis
DESCRIPTION:UJA Federation of Greater Toronto\nJewish Toronto Calendar\nhtt
 ps://jewishtoronto.com/calendar/unselfish-spirituality-with-alan-morinis-1
 519141390\n\nIs it selfish to be spiritual? Shouldn’t we make our highes
 t priority taking care of the well-being of others and the world? Or is it
  possible to practice unselfish spirituality? Teachings from the Jewish tr
 adition of Mussar help us understand how our inner lives intersect with th
 e world we live in\, and what is our true highest priority.\n\nDr. Alan Mo
 rinis is the Dean and Founder of The Mussar Institute. For the past 20 yea
 rs\, Mussar has been his passion\, and he is now a leading interprete...
DTSTART;TZID=America/Toronto:20180308T193000
DTEND;TZID=America/Toronto:20180308T210000
END:VEVENT
END:VCALENDAR
