BEGIN:VCALENDAR
PRODID:-//eluceo/ical//2.0/EN
VERSION:2.0
CALSCALE:GREGORIAN
BEGIN:VEVENT
UID:2cae268f3edc454ff8a7d3738cd011d9
DTSTAMP:20260421T182052Z
SUMMARY:Unplugged LGBTQ 20's and 30's Shabbat Dinner
DESCRIPTION:UJA Federation of Greater Toronto\nJewish Toronto Calendar\nhtt
 ps://jewishtoronto.com/calendar/unplugged-lgbtq-20s-and-30s-shabbat-dinner
 -1487523993\n\nFriday night services will be alternative and egalitarian\n
 Cell phones\, computers\, and iPads – oh my! Take a break from technolog
 y to be together for an uninterrupted meal. Unwind\, unplug\, relax\, refl
 ect\, and connect. For LGBTQ 20s and 30s and allies. Presented with Reboot
 \, Kulanu Toronto\, and Holy Blossom Temple. \nSign up for free with your 
 potluck contribution.
DTSTART;TZID=America/Toronto:20170303T183000
DTEND;TZID=America/Toronto:20170303T214500
END:VEVENT
END:VCALENDAR
