BEGIN:VCALENDAR
PRODID:-//eluceo/ical//2.0/EN
VERSION:2.0
CALSCALE:GREGORIAN
BEGIN:VEVENT
UID:d278918ff9d8f070e2b51dddb224b9f3
DTSTAMP:20260421T220909Z
SUMMARY:Beth Tzedec - Unorthodox: A Tablet Magazine Podcast
DESCRIPTION:UJA Federation of Greater Toronto\nJewish Toronto Calendar\nhtt
 ps://jewishtoronto.com/calendar/unorthodox---a-tablet-magazine-podcast-147
 5789772\n\nUnorthodox - A Tablet Magazine Podcast\nJews (& friends) talk n
 ews\, arts & other stuff ....\n\nUnorthodox is a smart\, fresh\, fun weekl
 y take on Jewish news and culture presented by Tablet Magazine. In a progr
 am first\, this international podcast program will be streamed from Beth T
 zedec Congregation. No charge\, but reservations strongly recommended.\n\n
 Prior to the podcast\, Beth Tzedec will host an intimate meet and greet wi
 th the anelists from the unorthodox podcast. Further details and regis...
DTSTART;TZID=America/Toronto:20161117T193000
DTEND;TZID=America/Toronto:20161117T213000
END:VEVENT
END:VCALENDAR
