BEGIN:VCALENDAR
PRODID:-//eluceo/ical//2.0/EN
VERSION:2.0
CALSCALE:GREGORIAN
BEGIN:VEVENT
UID:486c79488aca440fc7538ce13d5287bc
DTSTAMP:20260422T112839Z
SUMMARY:Unlock the Archives at Holy Blossom Temple
DESCRIPTION:UJA Federation of Greater Toronto\nJewish Toronto Calendar\nhtt
 ps://jewishtoronto.com/calendar/unlock-the-archives-at-holy-blossom-temple
 -1591987391\n\nUnlock the Archives! Rabbis\, Rebels\, and Reform: A Seven 
 Session History of Holy Blossom Temple7 Classes and each class will be an 
 hour Tuesdays June 23 – August 4\, 12:00 pmJoin us for a 7-week course t
 aught by the members of the Holy Blossom Archives committee that animates 
 the rabbis and rebels who shaped our temple into the Reform congregation t
 hat it is.https://holyblossom.org/event/unlock-the-archives/2020-06-30/
DTSTART;TZID=America/Toronto:20200623T120000
DTEND;TZID=America/Toronto:20200804T120000
END:VEVENT
END:VCALENDAR
