BEGIN:VCALENDAR
PRODID:-//eluceo/ical//2.0/EN
VERSION:2.0
CALSCALE:GREGORIAN
BEGIN:VEVENT
UID:639b3793c9e20d2ff2d275ae9011d897
DTSTAMP:20260422T131552Z
SUMMARY:UNITED HATZALAH MIXOLOGY EVENT FOR YOUNG PROFESSIONALS
DESCRIPTION:UJA Federation of Greater Toronto\nJewish Toronto Calendar\nhtt
 ps://jewishtoronto.com/calendar/united-hatzalah-mixology-event-for-young-p
 rofessionals-1679966734\n\nPlease join us for an incredible evening in cel
 ebration of Yom Ha'atzmaut.\nContact Andrea Plonka at andreap@israelrescue
 .org or Shanic@israelrescue.org for more information.\nLocation will only 
 be shared once a ticket has been purchased. Pleas
DTSTART;TZID=America/Toronto:20230427T200000
DTEND;TZID=America/Toronto:20230427T230000
END:VEVENT
END:VCALENDAR
