BEGIN:VCALENDAR
PRODID:-//eluceo/ical//2.0/EN
VERSION:2.0
CALSCALE:GREGORIAN
BEGIN:VEVENT
UID:6d7388b2ea21cfa75b9e7fe8e4e3c3b7
DTSTAMP:20260419T222307Z
SUMMARY:Understanding the Humanitarian Crisis in the Tigray Region of Ethio
 pia
DESCRIPTION:UJA Federation of Greater Toronto\nJewish Toronto Calendar\nhtt
 ps://jewishtoronto.com/calendar/understanding-the-humanitarian-crisis-in-t
 he-tigray-region-of-ethiopia-1645102711\n\nAccording to the UN\, millions 
 of people in the Tigray\, including Eritrean refugees\, are facing famine 
 as a result of the siege imposed by the federal government.  \n\nThe Beth 
 Tzedec Refugee Sponsorship group invites you to join us via Zoom as we lea
 rn about the humanitarian crisis in the Tigray region of Ethiopia and its 
 impact on local civilians and Eritrean refugees. Dr. Maereg Adhanom (Ph.D.
 )\, an environmentalist with over 27 years of experience in international 
 development and Yonas...
DTSTART;TZID=America/Toronto:20220220T120000
DTEND;TZID=America/Toronto:20220220T130000
END:VEVENT
END:VCALENDAR
