BEGIN:VCALENDAR
PRODID:-//eluceo/ical//2.0/EN
VERSION:2.0
CALSCALE:GREGORIAN
BEGIN:VEVENT
UID:90e2d94202b6788625b128d91fc684bf
DTSTAMP:20260422T070832Z
SUMMARY:Understanding Antisemitism in Canada
DESCRIPTION:UJA Federation of Greater Toronto\nJewish Toronto Calendar\nhtt
 ps://jewishtoronto.com/calendar/understanding-antisemitism-in-canada-17050
 03290\n\nWe must understand antisemitism to talk about it and to fight aga
 inst it. Presented by the Friends of Simon Wiesenthal Center (FSWC)\, this
  workshop will help you better understand the basics of antisemitism\, its
  history\, and its impact on Jewish Canadians. We will also cover the topi
 c of antisemitism in the workplace and how we can combat this. FSWC is one
  of Canada’s leading human rights and social advocacy organizations whos
 e mission is to build and more inclusive and respectful Canada. A...
DTSTART;TZID=America/Toronto:20240122T193000
DTEND;TZID=America/Toronto:20240122T213000
END:VEVENT
END:VCALENDAR
