BEGIN:VCALENDAR
PRODID:-//eluceo/ical//2.0/EN
VERSION:2.0
CALSCALE:GREGORIAN
BEGIN:VEVENT
UID:36c2d3f5f21c50baa7b14220a1722779
DTSTAMP:20260420T130547Z
SUMMARY:Understanding and Responding to Anti-Semitism
DESCRIPTION:UJA Federation of Greater Toronto\nJewish Toronto Calendar\nhtt
 ps://jewishtoronto.com/calendar/understanding-and-responding-to-anti-semit
 ism-1647961509\n\nWith the increase in Anti-Semitic incidents in schools a
 nd in our society\, this special evening will bring together Middle and Hi
 gh School students and their parents to reflect\, to learn and to work tog
 ether to address incidents of hate in our society. We will receive an upda
 te on the situation in the TDSB\, share how these incidents have affected 
 us\, and strategize and educate towards calling out and eliminating hate i
 n our world.\n\nPre-registration is required. To register\, visit...
DTSTART;TZID=America/Toronto:20220330T190000
DTEND;TZID=America/Toronto:20220330T200000
END:VEVENT
END:VCALENDAR
