BEGIN:VCALENDAR
PRODID:-//eluceo/ical//2.0/EN
VERSION:2.0
CALSCALE:GREGORIAN
BEGIN:VEVENT
UID:23cb5c0f8622b7a3b068e1288dc13cd2
DTSTAMP:20260419T135013Z
SUMMARY:Ulpanat Orot Open House
DESCRIPTION:UJA Federation of Greater Toronto\nJewish Toronto Calendar\nhtt
 ps://jewishtoronto.com/calendar/ulpanat-orot-open-house\n\nUlpanat Orot Op
 en House\n\n \n\n \n\n 
DTSTART;TZID=America/Toronto:20151018T090000
DTEND;TZID=America/Toronto:20151018T120000
END:VEVENT
END:VCALENDAR
