BEGIN:VCALENDAR
PRODID:-//eluceo/ical//2.0/EN
VERSION:2.0
CALSCALE:GREGORIAN
BEGIN:VEVENT
UID:7ce4501212845bda552bd9a818408344
DTSTAMP:20260421T215113Z
SUMMARY:UJA's Young Leaders Becoming Media Savvy
DESCRIPTION:UJA Federation of Greater Toronto\nJewish Toronto Calendar\nhtt
 ps://jewishtoronto.com/calendar/ujas-young-leaders-becoming-media-savvy\n\
 nUJA's Young Leaders Becoming Media Savvy
DTSTART;TZID=America/Toronto:20140618T183000
DTEND;TZID=America/Toronto:20140618T210000
END:VEVENT
END:VCALENDAR
