BEGIN:VCALENDAR
PRODID:-//eluceo/ical//2.0/EN
VERSION:2.0
CALSCALE:GREGORIAN
BEGIN:VEVENT
UID:1833c6c3a19a4051ed6d4895d18a9085
DTSTAMP:20260421T050807Z
SUMMARY:UJA's Super Sunday Telethon
DESCRIPTION:UJA Federation of Greater Toronto\nJewish Toronto Calendar\nhtt
 ps://jewishtoronto.com/calendar/ujas-super-sunday-telethon-1749834355\n\nU
 JA’s Super Sunday Telethon is an annual community-wide fundraising event
  where volunteers come together to make calls and raise dollars for UJA’
 s Annual Campaign. The day focuses on connecting with donors to inspire re
 newed and new gifts that help fund programs supporting vulnerable populati
 ons\, fighting antisemitism\, strengthening Jewish education\, and buildin
 g a vibrant Jewish future locally and globally.
DTSTART;TZID=America/Toronto:20250914T100000
DTEND;TZID=America/Toronto:20250914T160000
END:VEVENT
END:VCALENDAR
