BEGIN:VCALENDAR
PRODID:-//eluceo/ical//2.0/EN
VERSION:2.0
CALSCALE:GREGORIAN
BEGIN:VEVENT
UID:2925b041da070a7ae932edafa4d8c5c5
DTSTAMP:20260420T084318Z
SUMMARY:UJA's Israeli-Canadian Division presents Hasbara 101 (Hebrew Sessio
 n)
DESCRIPTION:UJA Federation of Greater Toronto\nJewish Toronto Calendar\nhtt
 ps://jewishtoronto.com/calendar/ujas-israeli-canadian-division-presents-ha
 sbara-101-hebrew-session\n\nהצטרפו לסדנה אינטראקטיבי
 ת בנושא הסברה פרו-ישראלית ופרו-יהודית בה
 נחיית\n\nיעל קרול\nחברת דירקטוריון\, הפדרצ
 יה היהודית של טורונטו\nיושבת ראש\, ועדה קה
 ילתית מייעצת\, Center for Israel and Jewish Affairs\nארין 
 כהן\, אחראית על תחום הסברה במדיה סוציאלית
  ושיווק\, Center for Israel and Jewish Affairs\n\nרונית לוי-
 מריק ובר...
DTSTART;TZID=America/Toronto:20140915T200000
DTEND;TZID=America/Toronto:20140915T220000
END:VEVENT
END:VCALENDAR
