BEGIN:VCALENDAR
PRODID:-//eluceo/ical//2.0/EN
VERSION:2.0
CALSCALE:GREGORIAN
BEGIN:VEVENT
UID:c339ec234a6b1b073158ef7a09b03c49
DTSTAMP:20260421T021444Z
SUMMARY:UJA's Harry Gorman Real Estate Tribute Dinner
DESCRIPTION:UJA Federation of Greater Toronto\nJewish Toronto Calendar\nhtt
 ps://jewishtoronto.com/calendar/ujas-harry-gorman-rel-estate-tribute-dinne
 r\n\nDetails to follow
DTSTART;TZID=America/Toronto:20141117T183000
DTEND;TZID=America/Toronto:20141117T213000
END:VEVENT
END:VCALENDAR
