BEGIN:VCALENDAR
PRODID:-//eluceo/ical//2.0/EN
VERSION:2.0
CALSCALE:GREGORIAN
BEGIN:VEVENT
UID:139ef4c380c9e02be955cd2f3aede4b0
DTSTAMP:20260425T145518Z
SUMMARY:UJA's Creative Writing Contest Awards Ceremony
DESCRIPTION:UJA Federation of Greater Toronto\nJewish Toronto Calendar\nhtt
 ps://jewishtoronto.com/calendar/ujas-creative-writing-contest-awards-cerem
 ony-1518792715\n\nFor more information please visit https://jewishtoronto.
 fedwebpreview.org/cje/day-school/interschool-programming/creative-writing-
 contest
DTSTART;TZID=America/Toronto:20180610T100000
DTEND;TZID=America/Toronto:20180610T110000
END:VEVENT
END:VCALENDAR
