BEGIN:VCALENDAR
PRODID:-//eluceo/ical//2.0/EN
VERSION:2.0
CALSCALE:GREGORIAN
BEGIN:VEVENT
UID:9235755409445eea67d79628f14405c0
DTSTAMP:20260424T065844Z
SUMMARY:UJA's Community Connect MIT Present: Sufganiyot For The Soul
DESCRIPTION:UJA Federation of Greater Toronto\nJewish Toronto Calendar\nhtt
 ps://jewishtoronto.com/calendar/ujas-community-connect-mit-present-sufgani
 yot-for-the-soul\n\nUJA's Community Connect Madrichim In Training Present:
  Sufganiyot For The Soul\n\nOn December 6th\, young professionals and sen
 iors will join together to share in a cooking experience to cultivate rela
 tionships and impart knowledge on one another! We believe that food brings
  people together\, and there is nothing like enjoying delicious jelly donu
 ts prepared with new friends!\n\nWe hope you will join us for this interge
 nerational Chanukah event!\n\nMIT Organizing team: Ariela Gutfrajnd\, Jess
 e ...
DTSTART;TZID=America/Toronto:20151206T150000
DTEND;TZID=America/Toronto:20151206T170000
END:VEVENT
END:VCALENDAR
