BEGIN:VCALENDAR
PRODID:-//eluceo/ical//2.0/EN
VERSION:2.0
CALSCALE:GREGORIAN
BEGIN:VEVENT
UID:1f9fe90ee19901b25ad4482e5219ae64
DTSTAMP:20260419T233708Z
SUMMARY:UJA’s Centennial Celebration - Journey to Israel
DESCRIPTION:UJA Federation of Greater Toronto\nJewish Toronto Calendar\nhtt
 ps://jewishtoronto.com/calendar/ujas-centennial-celebration-journey-to-isr
 ael-1450982814\n\nUJA FEDERATION IS TURNING 100 AND YOU’RE INVITED TO J
 OIN US ON A ONCE-IN-A-LIFETIME CELEBRATION !
DTSTART;TZID=America/Toronto:20171031T120000
DTEND;TZID=America/Toronto:20171108T120000
END:VEVENT
END:VCALENDAR
