BEGIN:VCALENDAR
PRODID:-//eluceo/ical//2.0/EN
VERSION:2.0
CALSCALE:GREGORIAN
BEGIN:VEVENT
UID:9a5a4c619569793dbda08705ccbd5756
DTSTAMP:20260421T105712Z
SUMMARY:UJA's Celebrate Israel Parade in New York 2016
DESCRIPTION:UJA Federation of Greater Toronto\nJewish Toronto Calendar\nhtt
 ps://jewishtoronto.com/calendar/ujas-celebrate-israel-parade-in-new-york-2
 016-1457552700\n\nAn annual parade on Manhattan's Fifth Avenue in New York
  City.
DTSTART;TZID=America/Toronto:20160605T110000
DTEND;TZID=America/Toronto:20160605T160000
END:VEVENT
END:VCALENDAR
