BEGIN:VCALENDAR
PRODID:-//eluceo/ical//2.0/EN
VERSION:2.0
CALSCALE:GREGORIAN
BEGIN:VEVENT
UID:3a39e099c70cc11a11c674cffd8f74de
DTSTAMP:20260422T022947Z
SUMMARY:UJAs Campaign 2018 Super Sunday Super Week Telethons
DESCRIPTION:UJA Federation of Greater Toronto\nJewish Toronto Calendar\nhtt
 ps://jewishtoronto.com/calendar/ujas-campaign-2018-super-sunday-super-week
 -telethons-1515527886\n\nMonday Telethons
DTSTART;TZID=America/Toronto:20180917T180000
DTEND;TZID=America/Toronto:20180917T210000
END:VEVENT
END:VCALENDAR
