BEGIN:VCALENDAR
PRODID:-//eluceo/ical//2.0/EN
VERSION:2.0
CALSCALE:GREGORIAN
BEGIN:VEVENT
UID:968ec2be38fe809e426a8656370c4410
DTSTAMP:20260420T091418Z
SUMMARY:UJAs Campaign 2018 Super Sunday Super Week Telethons
DESCRIPTION:UJA Federation of Greater Toronto\nJewish Toronto Calendar\nhtt
 ps://jewishtoronto.com/calendar/ujas-campaign-2018-super-sunday-super-week
 -telethons-1515527770\n\nSuper Sunday Telethons
DTSTART;TZID=America/Toronto:20180916T090000
DTEND;TZID=America/Toronto:20180916T180000
END:VEVENT
END:VCALENDAR
