BEGIN:VCALENDAR
PRODID:-//eluceo/ical//2.0/EN
VERSION:2.0
CALSCALE:GREGORIAN
BEGIN:VEVENT
UID:b3402e7a3a186e4f56f4db3d64818161
DTSTAMP:20260421T034303Z
SUMMARY:UJAs Campaign 2014 Women's Philanthropy Closing
DESCRIPTION:UJA Federation of Greater Toronto\nJewish Toronto Calendar\nhtt
 ps://jewishtoronto.com/calendar/ujas-campaign-2014-womens-philanthropy-clo
 sing\n\nClosing
DTSTART;TZID=America/Toronto:20140304T190000
DTEND;TZID=America/Toronto:20140304T213000
END:VEVENT
END:VCALENDAR
