BEGIN:VCALENDAR
PRODID:-//eluceo/ical//2.0/EN
VERSION:2.0
CALSCALE:GREGORIAN
BEGIN:VEVENT
UID:a27dcf26edfc12ff5ab032b0298f0218
DTSTAMP:20260421T135857Z
SUMMARY:UJA's Bay Street Division presents: An Evening with Brian Porter
DESCRIPTION:UJA Federation of Greater Toronto\nJewish Toronto Calendar\nhtt
 ps://jewishtoronto.com/calendar/ujas-bay-street-event-1513360877\n\nUJA's 
 Bay Street Division invites you to join us for An Evening with Brian Porte
 r\, President and CEO of Scotiabank. The event will be moderated by renown
 ed business journalist Howard Green.\n\nCocktails and Hors D'Ouevres (Kash
 ruth observed) will be provided.\n\nClick below to register or RSVP to Jul
 ie Gonik by emailing or calling 416-635-2883 x229\n\nThis event is open t
 o donors to UJA's 2017 Campaign.\n\n \n\nRegister\n\n \n\nSpeaker Detail
 s:\n\n \n\n\n\n\n\nBrian Porter\n\nBrian ...
DTSTART;TZID=America/Toronto:20180208T173000
DTEND;TZID=America/Toronto:20180208T210000
END:VEVENT
END:VCALENDAR
