BEGIN:VCALENDAR
PRODID:-//eluceo/ical//2.0/EN
VERSION:2.0
CALSCALE:GREGORIAN
BEGIN:VEVENT
UID:6f9200d761997d772ffcd741a0ae6977
DTSTAMP:20260423T183151Z
SUMMARY:UJA Young Women's Leadership Event
DESCRIPTION:UJA Federation of Greater Toronto\nJewish Toronto Calendar\nhtt
 ps://jewishtoronto.com/calendar/uja-young-womens-leadership-event\n\nRecen
 t Graduate Career Advice - Navigating the Job Market 
DTSTART;TZID=America/Toronto:20200921T000000
DTEND;TZID=America/Toronto:20200921T235959
END:VEVENT
END:VCALENDAR
