BEGIN:VCALENDAR
PRODID:-//eluceo/ical//2.0/EN
VERSION:2.0
CALSCALE:GREGORIAN
BEGIN:VEVENT
UID:3d360bfa2eb2422f8a6f1f79e3f0f1bb
DTSTAMP:20260423T182810Z
SUMMARY:UJA Young Leaders Marquee Event
DESCRIPTION:UJA Federation of Greater Toronto\nJewish Toronto Calendar\nhtt
 ps://jewishtoronto.com/calendar/uja-young-leaders-marquee-event-1493671908
 \n\nDetails TBC.
DTSTART;TZID=America/Toronto:20171202T190000
DTEND;TZID=America/Toronto:20171202T230000
END:VEVENT
END:VCALENDAR
