BEGIN:VCALENDAR
PRODID:-//eluceo/ical//2.0/EN
VERSION:2.0
CALSCALE:GREGORIAN
BEGIN:VEVENT
UID:e77881bbfbeec7ee65b79f2eaff70f55
DTSTAMP:20260425T175030Z
SUMMARY:UJA Young Leaders Campaign Night
DESCRIPTION:UJA Federation of Greater Toronto\nJewish Toronto Calendar\nhtt
 ps://jewishtoronto.com/calendar/uja-young-leaders-campaign-night-149367102
 6\n\nDetails TBC.
DTSTART;TZID=America/Toronto:20170912T180000
DTEND;TZID=America/Toronto:20170912T210000
END:VEVENT
END:VCALENDAR
