BEGIN:VCALENDAR
PRODID:-//eluceo/ical//2.0/EN
VERSION:2.0
CALSCALE:GREGORIAN
BEGIN:VEVENT
UID:fa87901f74420e0257e409d5b2cf963b
DTSTAMP:20260419T180148Z
SUMMARY:UJA York Region Community Security Event
DESCRIPTION:UJA Federation of Greater Toronto\nJewish Toronto Calendar\nhtt
 ps://jewishtoronto.com/calendar/uja-york-region-community-security-event-1
 565640017\n\nUJA York Region Community Security Event
DTSTART;TZID=America/Toronto:20191205T193000
DTEND;TZID=America/Toronto:20191205T210000
END:VEVENT
END:VCALENDAR
