BEGIN:VCALENDAR
PRODID:-//eluceo/ical//2.0/EN
VERSION:2.0
CALSCALE:GREGORIAN
BEGIN:VEVENT
UID:4ac46b6dcc7ba6461972f5cedd43dacd
DTSTAMP:20260421T070026Z
SUMMARY:A Yom Ha'Atzmaut Blue&White Birthday Bash
DESCRIPTION:UJA Federation of Greater Toronto\nJewish Toronto Calendar\nhtt
 ps://jewishtoronto.com/calendar/uja-yom-ha-atzmaut-israel-70\n\nJoin us fo
 r a special Blue & White Birthday Bash as we celebrate Israel’s 70th. En
 joy a musical and culinary experience on one memorable night. Experience I
 srael’s diverse musical talents\, great food\, and incredible energy tha
 t only Israel and our Jewish community can deliver! Watch the trailer....\
 n\nHere's what you got to look forward to:\n\nISRAELI BEATS\nEnergetic and
  electrifying drumming performance with Israeli percussionists\n\n2 DJ PER
 FORMANCES \nFeaturing DJ BrainDead\, one...
DTSTART;TZID=America/Toronto:20180419T193000
DTEND;TZID=America/Toronto:20180419T220000
END:VEVENT
END:VCALENDAR
