BEGIN:VCALENDAR
PRODID:-//eluceo/ical//2.0/EN
VERSION:2.0
CALSCALE:GREGORIAN
BEGIN:VEVENT
UID:4a539c55711577c064ead49c5d6e5717
DTSTAMP:20260422T095455Z
SUMMARY:UJA Yitzchak Rabin Memorial Day Ceremony
DESCRIPTION:UJA Federation of Greater Toronto\nJewish Toronto Calendar\nhtt
 ps://jewishtoronto.com/calendar/uja-yitzchak-rabin-memorial-day-ceremony\n
 \nDetails to follow. 
DTSTART;TZID=America/Toronto:20231029T180000
DTEND;TZID=America/Toronto:20231029T200000
END:VEVENT
END:VCALENDAR
