BEGIN:VCALENDAR
PRODID:-//eluceo/ical//2.0/EN
VERSION:2.0
CALSCALE:GREGORIAN
BEGIN:VEVENT
UID:51600045676e29fb73bacdace7a1fe21
DTSTAMP:20260421T131641Z
SUMMARY:UJA WP Women on the Move
DESCRIPTION:UJA Federation of Greater Toronto\nJewish Toronto Calendar\nhtt
 ps://jewishtoronto.com/calendar/uja-wp-women-on-the-move\n\nWomen's Philan
 thopy - Business and Professional Seminar: Women on the Move: 5 Factors to
  Career Happiness \nWebinar\n\nFor more information contact Sari Disenhou
 se at sdisenhouse@ujafed.org 
DTSTART;TZID=America/Toronto:20201027T130000
DTEND;TZID=America/Toronto:20201027T140000
END:VEVENT
END:VCALENDAR
