BEGIN:VCALENDAR
PRODID:-//eluceo/ical//2.0/EN
VERSION:2.0
CALSCALE:GREGORIAN
BEGIN:VEVENT
UID:415dd6190fce13305b0edda584a73f2e
DTSTAMP:20260420T184439Z
SUMMARY:UJA Women's Philanthropy PWCC
DESCRIPTION:UJA Federation of Greater Toronto\nJewish Toronto Calendar\nhtt
 ps://jewishtoronto.com/calendar/uja-womens-philanthropy-pwcc\n\nUJA Women'
 s Philanthropy presents their annual PWCC meeting. \n\nPrivate invite onl
 y. \n\nRegistration is required. 
DTSTART;TZID=America/Toronto:20211014T120000
DTEND;TZID=America/Toronto:20211014T130000
END:VEVENT
END:VCALENDAR
