BEGIN:VCALENDAR
PRODID:-//eluceo/ical//2.0/EN
VERSION:2.0
CALSCALE:GREGORIAN
BEGIN:VEVENT
UID:d617e53b7c0254dc0ec3091faf523391
DTSTAMP:20260424T115011Z
SUMMARY:UJA Women's Philanthropy Pacesetters Present: Speed Learning
DESCRIPTION:UJA Federation of Greater Toronto\nJewish Toronto Calendar\nhtt
 ps://jewishtoronto.com/calendar/uja-womens-philanthropy-pacesetters-presen
 t-speed-learning\n\nUJA Women's Philanthropy Pacesetters Present: Speed Le
 arning
DTSTART;TZID=America/Toronto:20150625T190000
DTEND;TZID=America/Toronto:20150625T213000
END:VEVENT
END:VCALENDAR
