BEGIN:VCALENDAR
PRODID:-//eluceo/ical//2.0/EN
VERSION:2.0
CALSCALE:GREGORIAN
BEGIN:VEVENT
UID:48196b8966b9606b757dc70a47275330
DTSTAMP:20260422T170634Z
SUMMARY:UJA Women's Philanthropy Lion of Judah Event
DESCRIPTION:UJA Federation of Greater Toronto\nJewish Toronto Calendar\nhtt
 ps://jewishtoronto.com/calendar/uja-womens-philanthropy-lion-of-judah-even
 t-1538483555\n\nUJA Women's Philanthropy Lion of Judah Event
DTSTART;TZID=America/Toronto:20191024T190000
DTEND;TZID=America/Toronto:20191024T210000
END:VEVENT
END:VCALENDAR
