BEGIN:VCALENDAR
PRODID:-//eluceo/ical//2.0/EN
VERSION:2.0
CALSCALE:GREGORIAN
BEGIN:VEVENT
UID:d0517dd1c93cbe35b43e1ba256badf7d
DTSTAMP:20260421T090038Z
SUMMARY:UJA Women's Philanthropy Lion of Judah Event
DESCRIPTION:UJA Federation of Greater Toronto\nJewish Toronto Calendar\nhtt
 ps://jewishtoronto.com/calendar/uja-womens-philanthropy-lion-of-judah-even
 t-1511454648\n\nUJA Women's Philanthropy Lion of Judah Event
DTSTART;TZID=America/Toronto:20180920T180000
DTEND;TZID=America/Toronto:20180920T200000
END:VEVENT
END:VCALENDAR
