BEGIN:VCALENDAR
PRODID:-//eluceo/ical//2.0/EN
VERSION:2.0
CALSCALE:GREGORIAN
BEGIN:VEVENT
UID:62b11c93346edf0692e0000f665a3ef1
DTSTAMP:20260421T085807Z
SUMMARY:UJA Women's Philanthropy Lion of Judah Event
DESCRIPTION:UJA Federation of Greater Toronto\nJewish Toronto Calendar\nhtt
 ps://jewishtoronto.com/calendar/uja-womens-philanthropy-lion-of-judah-even
 t-1495655283\n\nLion of Judah Event
DTSTART;TZID=America/Toronto:20171002T180000
DTEND;TZID=America/Toronto:20171002T210000
END:VEVENT
END:VCALENDAR
