BEGIN:VCALENDAR
PRODID:-//eluceo/ical//2.0/EN
VERSION:2.0
CALSCALE:GREGORIAN
BEGIN:VEVENT
UID:5e02fa36e59d2eafc832c643fb4ce15c
DTSTAMP:20260420T115138Z
SUMMARY:UJA Women's Philanthropy Lion of Judah Annual Cocktail & Networking
  Event
DESCRIPTION:UJA Federation of Greater Toronto\nJewish Toronto Calendar\nhtt
 ps://jewishtoronto.com/calendar/uja-womens-philanthropy-lion-of-judah-annu
 al-cocktail--networking-event-1483021453\n\nLion of Judah Annual Cocktail 
 & Networking Event
DTSTART;TZID=America/Toronto:20170301T173000
DTEND;TZID=America/Toronto:20170301T193000
END:VEVENT
END:VCALENDAR
