BEGIN:VCALENDAR
PRODID:-//eluceo/ical//2.0/EN
VERSION:2.0
CALSCALE:GREGORIAN
BEGIN:VEVENT
UID:5a70c6d8b878daa444d7e3cdf40f7752
DTSTAMP:20260424T025438Z
SUMMARY:UJA Women's Philanthropy Installation & Cellathon
DESCRIPTION:UJA Federation of Greater Toronto\nJewish Toronto Calendar\nhtt
 ps://jewishtoronto.com/calendar/uja-womens-philanthropy-installation-cella
 thon\n\nUJA Women's Philanthropy presents an in-person Cellathon and Women
 's Installation night on Tuesday\, September 14th. \n\nPlease register. 
DTSTART;TZID=America/Toronto:20210914T173000
DTEND;TZID=America/Toronto:20210914T203000
END:VEVENT
END:VCALENDAR
