BEGIN:VCALENDAR
PRODID:-//eluceo/ical//2.0/EN
VERSION:2.0
CALSCALE:GREGORIAN
BEGIN:VEVENT
UID:4096bfb040a1487c39c5c9ebe8cf1bbe
DTSTAMP:20260420T035001Z
SUMMARY:UJA Women's Philanthropy - Focus Group
DESCRIPTION:UJA Federation of Greater Toronto\nJewish Toronto Calendar\nhtt
 ps://jewishtoronto.com/calendar/uja-womens-philanthropy-focus-group-147015
 4401\n\nWomen's Philanthropy Focus Group
DTSTART;TZID=America/Toronto:20161128T170000
DTEND;TZID=America/Toronto:20161128T220000
END:VEVENT
END:VCALENDAR
